BEGIN:VCALENDAR
VERSION:2.0
PRODID:-//Muziekvereniging Harmonie Beetgum - ECPv6.15.20//NONSGML v1.0//EN
CALSCALE:GREGORIAN
METHOD:PUBLISH
X-WR-CALNAME:Muziekvereniging Harmonie Beetgum
X-ORIGINAL-URL:https://harmoniebeetgum.nl
X-WR-CALDESC:Evenementen voor Muziekvereniging Harmonie Beetgum
REFRESH-INTERVAL;VALUE=DURATION:PT1H
X-Robots-Tag:noindex
X-PUBLISHED-TTL:PT1H
BEGIN:VTIMEZONE
TZID:UTC
BEGIN:STANDARD
TZOFFSETFROM:+0000
TZOFFSETTO:+0000
TZNAME:UTC
DTSTART:20180101T000000
END:STANDARD
END:VTIMEZONE
BEGIN:VEVENT
DTSTART;VALUE=DATE:20190201
DTEND;VALUE=DATE:20190202
DTSTAMP:20260422T144017
CREATED:20181123T100648Z
LAST-MODIFIED:20181123T100648Z
UID:813-1548979200-1549065599@harmoniebeetgum.nl
SUMMARY:Oudpapier
DESCRIPTION:
URL:https://harmoniebeetgum.nl/agenda/oudpapier-17/
END:VEVENT
BEGIN:VEVENT
DTSTART;TZID=UTC:20190206T193000
DTEND;TZID=UTC:20190206T213000
DTSTAMP:20260422T144017
CREATED:20181123T101945Z
LAST-MODIFIED:20181123T101945Z
UID:839-1549481400-1549488600@harmoniebeetgum.nl
SUMMARY:Jaarvergadering
DESCRIPTION:
URL:https://harmoniebeetgum.nl/agenda/jaarvergadering/
END:VEVENT
END:VCALENDAR